Package: BloodCancerMultiOmics2017 Version: 1.30.0 Command: /home/biocbuild/bbs-3.22-bioc/R/bin/R CMD build --keep-empty-dirs --no-resave-data BloodCancerMultiOmics2017 StartedAt: 2025-11-13 11:08:24 -0500 (Thu, 13 Nov 2025) EndedAt: 2025-11-13 11:39:17 -0500 (Thu, 13 Nov 2025) EllapsedTime: 1853.0 seconds RetCode: 0 Status: OK PackageFile: BloodCancerMultiOmics2017_1.30.0.tar.gz PackageFileSize: 53.69 MiB