Package: BioPlex Version: 1.16.0 Command: /home/biocbuild/bbs-3.22-bioc/R/bin/R CMD INSTALL BioPlex StartedAt: 2025-11-13 10:58:39 -0500 (Thu, 13 Nov 2025) EndedAt: 2025-11-13 10:58:59 -0500 (Thu, 13 Nov 2025) EllapsedTime: 19.3 seconds RetCode: 0 Status: OK