Package: BioPlex Version: 1.16.0 Command: /home/biocbuild/bbs-3.22-bioc/R/bin/R CMD build --keep-empty-dirs --no-resave-data BioPlex StartedAt: 2025-11-13 11:08:13 -0500 (Thu, 13 Nov 2025) EndedAt: 2025-11-13 11:09:48 -0500 (Thu, 13 Nov 2025) EllapsedTime: 94.6 seconds RetCode: 1 Status: ERROR PackageFile: None PackageFileSize: NA