Package: BioImageDbs Version: 1.18.0 Command: /home/biocbuild/bbs-3.22-bioc/R/bin/R CMD INSTALL BioImageDbs StartedAt: 2025-11-13 10:57:45 -0500 (Thu, 13 Nov 2025) EndedAt: 2025-11-13 10:57:46 -0500 (Thu, 13 Nov 2025) EllapsedTime: 1.4 seconds RetCode: 0 Status: OK