Package: BeadSorted.Saliva.EPIC Version: 1.18.0 Command: /home/biocbuild/bbs-3.22-bioc/R/bin/R CMD build --keep-empty-dirs --no-resave-data BeadSorted.Saliva.EPIC StartedAt: 2025-11-13 11:08:07 -0500 (Thu, 13 Nov 2025) EndedAt: 2025-11-13 11:08:51 -0500 (Thu, 13 Nov 2025) EllapsedTime: 43.8 seconds RetCode: 0 Status: OK PackageFile: BeadSorted.Saliva.EPIC_1.18.0.tar.gz PackageFileSize: 13.46 KiB