Package: BeadArrayUseCases Version: 1.48.0 Command: /home/biocbuild/bbs-3.22-bioc/R/bin/R CMD INSTALL BeadArrayUseCases StartedAt: 2025-11-13 10:59:31 -0500 (Thu, 13 Nov 2025) EndedAt: 2025-11-13 10:59:53 -0500 (Thu, 13 Nov 2025) EllapsedTime: 22.5 seconds RetCode: 0 Status: OK