Package: BeadArrayUseCases Version: 1.48.0 Command: /home/biocbuild/bbs-3.22-bioc/R/bin/R CMD check --install=check:BeadArrayUseCases.install-out.txt --library=/home/biocbuild/bbs-3.22-bioc/R/site-library --timings BeadArrayUseCases_1.48.0.tar.gz StartedAt: 2025-11-18 12:31:17 -0500 (Tue, 18 Nov 2025) EndedAt: 2025-11-18 12:40:45 -0500 (Tue, 18 Nov 2025) EllapsedTime: 568.1 seconds RetCode: 0 Status: OK CheckDir: BeadArrayUseCases.Rcheck Warnings: 0