Package: AssessORFData Version: 1.28.0 Command: /home/biocbuild/bbs-3.22-bioc/R/bin/R CMD INSTALL AssessORFData StartedAt: 2025-11-13 10:56:39 -0500 (Thu, 13 Nov 2025) EndedAt: 2025-11-13 10:57:25 -0500 (Thu, 13 Nov 2025) EllapsedTime: 45.8 seconds RetCode: 0 Status: OK