Package: AssessORFData Version: 1.28.0 Command: /home/biocbuild/bbs-3.22-bioc/R/bin/R CMD build --keep-empty-dirs --no-resave-data AssessORFData StartedAt: 2025-11-13 11:07:54 -0500 (Thu, 13 Nov 2025) EndedAt: 2025-11-13 11:09:28 -0500 (Thu, 13 Nov 2025) EllapsedTime: 93.6 seconds RetCode: 0 Status: OK PackageFile: AssessORFData_1.28.0.tar.gz PackageFileSize: 144.6 MiB