Package: AssessORFData
Version: 1.26.0
Command: /home/biocbuild/bbs-3.21-bioc/R/bin/R CMD INSTALL AssessORFData
StartedAt: 2025-05-22 10:56:51 -0400 (Thu, 22 May 2025)
EndedAt: 2025-05-22 10:57:35 -0400 (Thu, 22 May 2025)
EllapsedTime: 44.0 seconds
RetCode: 0
Status: OK