Package: AmpAffyExample Version: 1.50.0 Command: /home/biocbuild/bbs-3.22-bioc/R/bin/R CMD INSTALL AmpAffyExample StartedAt: 2025-11-13 10:56:28 -0500 (Thu, 13 Nov 2025) EndedAt: 2025-11-13 10:56:31 -0500 (Thu, 13 Nov 2025) EllapsedTime: 3.7 seconds RetCode: 0 Status: OK