Package: Affyhgu133Plus2Expr Version: 1.44.0 Command: /home/biocbuild/bbs-3.22-bioc/R/bin/R CMD INSTALL Affyhgu133Plus2Expr StartedAt: 2025-11-13 10:55:41 -0500 (Thu, 13 Nov 2025) EndedAt: 2025-11-13 10:55:43 -0500 (Thu, 13 Nov 2025) EllapsedTime: 1.8 seconds RetCode: 0 Status: OK