Package: AWAggregatorData Version: 1.0.0 Command: /home/biocbuild/bbs-3.22-bioc/R/bin/R CMD build --keep-empty-dirs --no-resave-data AWAggregatorData StartedAt: 2025-11-13 11:07:56 -0500 (Thu, 13 Nov 2025) EndedAt: 2025-11-13 11:08:55 -0500 (Thu, 13 Nov 2025) EllapsedTime: 58.7 seconds RetCode: 0 Status: OK PackageFile: AWAggregatorData_1.0.0.tar.gz PackageFileSize: 220.4 KiB