Package: ALLMLL Version: 1.50.0 Command: /home/biocbuild/bbs-3.22-bioc/R/bin/R CMD INSTALL ALLMLL StartedAt: 2025-11-13 10:56:24 -0500 (Thu, 13 Nov 2025) EndedAt: 2025-11-13 10:56:29 -0500 (Thu, 13 Nov 2025) EllapsedTime: 4.8 seconds RetCode: 0 Status: OK