Package: cytofWorkflow Version: 1.33.0 Command: /home/biocbuild/bbs-3.22-bioc/R/bin/R CMD INSTALL cytofWorkflow StartedAt: 2025-05-27 13:00:17 -0400 (Tue, 27 May 2025) EndedAt: 2025-05-27 13:00:45 -0400 (Tue, 27 May 2025) EllapsedTime: 27.4 seconds RetCode: 0 Status: OK