Package: csawUsersGuide Version: 1.25.0 Command: chmod a+r csawUsersGuide -R && F:\biocbuild\bbs-3.22-bioc\R\bin\R.exe CMD build --keep-empty-dirs --no-resave-data csawUsersGuide StartedAt: 2025-05-23 13:06:42 -0400 (Fri, 23 May 2025) EndedAt: 2025-05-23 13:06:52 -0400 (Fri, 23 May 2025) EllapsedTime: 10.1 seconds RetCode: 0 Status: OK PackageFile: csawUsersGuide_1.25.0.tar.gz PackageFileSize: 35.87 <A href="http://en.wikipedia.org/wiki/KiB" target="_blank">KiB</A>