Package: csawUsersGuide
Version: 1.25.0
Command: /Library/Frameworks/R.framework/Resources/bin/R CMD INSTALL csawUsersGuide
StartedAt: 2025-05-16 13:00:13 -0400 (Fri, 16 May 2025)
EndedAt: 2025-05-16 13:00:17 -0400 (Fri, 16 May 2025)
EllapsedTime: 4.1 seconds
RetCode: 0
Status: OK