Package: arrays Version: 1.37.0 Command: /home/biocbuild/bbs-3.23-bioc/R/bin/R CMD INSTALL arrays StartedAt: 2025-11-18 13:00:14 -0500 (Tue, 18 Nov 2025) EndedAt: 2025-11-18 13:00:18 -0500 (Tue, 18 Nov 2025) EllapsedTime: 3.6 seconds RetCode: 0 Status: OK