Package: GeoMxWorkflows
Version: 1.15.0
Command: /home/biocbuild/bbs-3.22-bioc/R/bin/R CMD INSTALL GeoMxWorkflows
StartedAt: 2025-05-20 13:00:18 -0400 (Tue, 20 May 2025)
EndedAt: 2025-05-20 13:00:33 -0400 (Tue, 20 May 2025)
EllapsedTime: 15.1 seconds
RetCode: 0
Status: OK