Package: ExpressionNormalizationWorkflow Version: 1.37.0 Command: /home/biocbuild/bbs-3.23-bioc/R/bin/R CMD build --keep-empty-dirs --no-resave-data ExpressionNormalizationWorkflow StartedAt: 2025-11-18 13:04:45 -0500 (Tue, 18 Nov 2025) EndedAt: 2025-11-18 13:10:07 -0500 (Tue, 18 Nov 2025) EllapsedTime: 322.2 seconds RetCode: 0 Status: OK PackageFile: ExpressionNormalizationWorkflow_1.37.0.tar.gz PackageFileSize: 3.42 MiB