Package: yeastGSData Version: 0.47.0 Command: /home/biocbuild/bbs-3.22-bioc/R/bin/R CMD INSTALL yeastGSData StartedAt: 2025-10-09 10:55:28 -0400 (Thu, 09 Oct 2025) EndedAt: 2025-10-09 10:55:32 -0400 (Thu, 09 Oct 2025) EllapsedTime: 4.2 seconds RetCode: 0 Status: OK