Package: yeastGSData Version: 0.47.0 Command: /home/biocbuild/bbs-3.22-bioc/R/bin/R CMD build --keep-empty-dirs --no-resave-data yeastGSData StartedAt: 2025-10-09 11:48:54 -0400 (Thu, 09 Oct 2025) EndedAt: 2025-10-09 11:49:09 -0400 (Thu, 09 Oct 2025) EllapsedTime: 15.3 seconds RetCode: 0 Status: OK PackageFile: yeastGSData_0.47.0.tar.gz PackageFileSize: 8.124 MiB