Package: xcoredata Version: 1.13.0 Command: /home/biocbuild/bbs-3.22-bioc/R/bin/R CMD INSTALL xcoredata StartedAt: 2025-10-09 10:57:24 -0400 (Thu, 09 Oct 2025) EndedAt: 2025-10-09 10:57:38 -0400 (Thu, 09 Oct 2025) EllapsedTime: 14.0 seconds RetCode: 0 Status: OK