Package: tuberculosis Version: 1.15.0 Maintainer: Lucas Schiffer MaintainerEmail: schiffer.lucas at gmail.com git_url: https://git.bioconductor.org/packages/tuberculosis git_branch: devel git_last_commit: ab59e64 git_last_commit_date: 2025-04-15 10:21:39 -0400 (Tue, 15 Apr 2025)