Package: tofsimsData Version: 1.37.0 Command: /home/biocbuild/bbs-3.22-bioc/R/bin/R CMD INSTALL tofsimsData StartedAt: 2025-05-20 10:55:23 -0400 (Tue, 20 May 2025) EndedAt: 2025-05-20 10:55:24 -0400 (Tue, 20 May 2025) EllapsedTime: 1.6 seconds RetCode: 0 Status: OK