Package: tinesath1probe Version: 1.47.0 Command: /home/biocbuild/bbs-3.22-bioc/R/bin/R CMD INSTALL tinesath1probe StartedAt: 2025-10-09 10:56:42 -0400 (Thu, 09 Oct 2025) EndedAt: 2025-10-09 10:56:51 -0400 (Thu, 09 Oct 2025) EllapsedTime: 9.2 seconds RetCode: 0 Status: OK