Package: timecoursedata Version: 1.19.0 Command: /home/biocbuild/bbs-3.22-bioc/R/bin/R CMD INSTALL timecoursedata StartedAt: 2025-10-02 11:01:43 -0400 (Thu, 02 Oct 2025) EndedAt: 2025-10-02 11:02:06 -0400 (Thu, 02 Oct 2025) EllapsedTime: 23.0 seconds RetCode: 0 Status: OK