Package: timecoursedata Version: 1.19.0 Command: /home/biocbuild/bbs-3.22-bioc/R/bin/R CMD build --keep-empty-dirs --no-resave-data timecoursedata StartedAt: 2025-10-02 11:45:50 -0400 (Thu, 02 Oct 2025) EndedAt: 2025-10-02 11:46:34 -0400 (Thu, 02 Oct 2025) EllapsedTime: 43.5 seconds RetCode: 0 Status: OK PackageFile: timecoursedata_1.19.0.tar.gz PackageFileSize: 44.87 MiB