Package: spqnData Version: 1.21.0 Command: /home/biocbuild/bbs-3.22-bioc/R/bin/R CMD build --keep-empty-dirs --no-resave-data spqnData StartedAt: 2025-10-21 11:44:12 -0400 (Tue, 21 Oct 2025) EndedAt: 2025-10-21 11:44:15 -0400 (Tue, 21 Oct 2025) EllapsedTime: 2.9 seconds RetCode: 0 Status: OK PackageFile: spqnData_1.21.0.tar.gz PackageFileSize: 10.17 MiB