Package: spatialLIBD Version: 1.23.0 Command: /home/biocbuild/bbs-3.23-bioc/R/bin/R CMD INSTALL spatialLIBD StartedAt: 2025-10-30 11:01:57 -0400 (Thu, 30 Oct 2025) EndedAt: 2025-10-30 11:02:44 -0400 (Thu, 30 Oct 2025) EllapsedTime: 46.6 seconds RetCode: 0 Status: OK