Package: spatialLIBD Version: 1.23.0 Command: /home/biocbuild/bbs-3.23-bioc/R/bin/R CMD build --keep-empty-dirs --no-resave-data spatialLIBD StartedAt: 2025-10-30 11:39:02 -0400 (Thu, 30 Oct 2025) EndedAt: 2025-10-30 11:44:07 -0400 (Thu, 30 Oct 2025) EllapsedTime: 304.5 seconds RetCode: 0 Status: OK PackageFile: spatialLIBD_1.23.0.tar.gz PackageFileSize: 19.89 MiB