Package: scanMiRData Version: 1.17.0 Command: /home/biocbuild/bbs-3.23-bioc/R/bin/R CMD INSTALL scanMiRData StartedAt: 2025-10-30 10:58:10 -0400 (Thu, 30 Oct 2025) EndedAt: 2025-10-30 10:58:25 -0400 (Thu, 30 Oct 2025) EllapsedTime: 15.1 seconds RetCode: 0 Status: OK