Package: scaeData Version: 1.7.0 Command: /home/biocbuild/bbs-3.23-bioc/R/bin/R CMD INSTALL scaeData StartedAt: 2025-11-13 10:57:21 -0500 (Thu, 13 Nov 2025) EndedAt: 2025-11-13 10:57:35 -0500 (Thu, 13 Nov 2025) EllapsedTime: 13.8 seconds RetCode: 0 Status: OK