Package: scRNAseq Version: 2.25.0 Command: /home/biocbuild/bbs-3.23-bioc/R/bin/R CMD build --keep-empty-dirs --no-resave-data scRNAseq StartedAt: 2025-10-30 11:37:10 -0400 (Thu, 30 Oct 2025) EndedAt: 2025-10-30 11:38:21 -0400 (Thu, 30 Oct 2025) EllapsedTime: 70.7 seconds RetCode: 0 Status: OK PackageFile: scRNAseq_2.25.0.tar.gz PackageFileSize: 304.5 KiB