Package: scATAC.Explorer Version: 1.15.0 Command: /home/biocbuild/bbs-3.22-bioc/R/bin/R CMD INSTALL scATAC.Explorer StartedAt: 2025-05-15 11:02:49 -0400 (Thu, 15 May 2025) EndedAt: 2025-05-15 11:03:15 -0400 (Thu, 15 May 2025) EllapsedTime: 26.3 seconds RetCode: 0 Status: OK