Package: scATAC.Explorer Version: 1.17.0 Command: /home/biocbuild/bbs-3.23-bioc/R/bin/R CMD INSTALL scATAC.Explorer StartedAt: 2025-11-11 11:02:50 -0500 (Tue, 11 Nov 2025) EndedAt: 2025-11-11 11:03:16 -0500 (Tue, 11 Nov 2025) EllapsedTime: 25.9 seconds RetCode: 0 Status: OK