Package: sampleClassifierData Version: 1.35.0 Command: /home/biocbuild/bbs-3.23-bioc/R/bin/R CMD INSTALL sampleClassifierData StartedAt: 2025-11-04 10:59:12 -0500 (Tue, 04 Nov 2025) EndedAt: 2025-11-04 10:59:24 -0500 (Tue, 04 Nov 2025) EllapsedTime: 12.7 seconds RetCode: 0 Status: OK