Package: sampleClassifierData Version: 1.35.0 Command: /home/biocbuild/bbs-3.23-bioc/R/bin/R CMD build --keep-empty-dirs --no-resave-data sampleClassifierData StartedAt: 2025-11-04 11:40:51 -0500 (Tue, 04 Nov 2025) EndedAt: 2025-11-04 11:41:18 -0500 (Tue, 04 Nov 2025) EllapsedTime: 26.7 seconds RetCode: 0 Status: OK PackageFile: sampleClassifierData_1.35.0.tar.gz PackageFileSize: 15.51 MiB