Package: prostateCancerTaylor Version: 1.37.0 Command: /home/biocbuild/bbs-3.22-bioc/R/bin/R CMD build --keep-empty-dirs --no-resave-data prostateCancerTaylor StartedAt: 2025-05-15 11:34:47 -0400 (Thu, 15 May 2025) EndedAt: 2025-05-15 11:35:00 -0400 (Thu, 15 May 2025) EllapsedTime: 13.0 seconds RetCode: 0 Status: OK PackageFile: prostateCancerTaylor_1.37.0.tar.gz PackageFileSize: 25.77 <A href="http://en.wikipedia.org/wiki/MiB" target="_blank">MiB</A>