Package: prostateCancerGrasso Version: 1.37.0 Command: /home/biocbuild/bbs-3.22-bioc/R/bin/R CMD INSTALL prostateCancerGrasso StartedAt: 2025-10-07 10:56:22 -0400 (Tue, 07 Oct 2025) EndedAt: 2025-10-07 10:56:30 -0400 (Tue, 07 Oct 2025) EllapsedTime: 7.6 seconds RetCode: 0 Status: OK