Package: pd.atdschip.tiling Version: 0.47.0 Command: /home/biocbuild/bbs-3.22-bioc/R/bin/R CMD INSTALL pd.atdschip.tiling StartedAt: 2025-10-23 11:01:19 -0400 (Thu, 23 Oct 2025) EndedAt: 2025-10-23 11:01:48 -0400 (Thu, 23 Oct 2025) EllapsedTime: 28.3 seconds RetCode: 0 Status: OK