Package: pasillaBamSubset Version: 0.47.0 Command: /home/biocbuild/bbs-3.22-bioc/R/bin/R CMD INSTALL pasillaBamSubset StartedAt: 2025-05-15 10:55:16 -0400 (Thu, 15 May 2025) EndedAt: 2025-05-15 10:55:18 -0400 (Thu, 15 May 2025) EllapsedTime: 1.9 seconds RetCode: 0 Status: OK