Package: orthosData Version: 1.7.0 Command: /home/biocbuild/bbs-3.22-bioc/R/bin/R CMD INSTALL orthosData StartedAt: 2025-10-02 10:59:23 -0400 (Thu, 02 Oct 2025) EndedAt: 2025-10-02 10:59:53 -0400 (Thu, 02 Oct 2025) EllapsedTime: 29.7 seconds RetCode: 0 Status: OK