Package: orthosData Version: 1.7.0 Command: /home/biocbuild/bbs-3.22-bioc/R/bin/R CMD build --keep-empty-dirs --no-resave-data orthosData StartedAt: 2025-10-02 11:34:25 -0400 (Thu, 02 Oct 2025) EndedAt: 2025-10-02 11:35:05 -0400 (Thu, 02 Oct 2025) EllapsedTime: 39.8 seconds RetCode: 0 Status: OK PackageFile: orthosData_1.7.0.tar.gz PackageFileSize: 311.9 KiB