Package: oct4 Version: 1.25.0 Command: /home/biocbuild/bbs-3.22-bioc/R/bin/R CMD build --keep-empty-dirs --no-resave-data oct4 StartedAt: 2025-05-15 11:32:51 -0400 (Thu, 15 May 2025) EndedAt: 2025-05-15 11:33:05 -0400 (Thu, 15 May 2025) EllapsedTime: 14.3 seconds RetCode: 0 Status: OK PackageFile: oct4_1.25.0.tar.gz PackageFileSize: 192.9 <A href="http://en.wikipedia.org/wiki/MiB" target="_blank">MiB</A>