Package: oct4 Version: 1.27.0 Command: /home/biocbuild/bbs-3.23-bioc/R/bin/R CMD INSTALL oct4 StartedAt: 2025-11-13 10:55:22 -0500 (Thu, 13 Nov 2025) EndedAt: 2025-11-13 10:55:24 -0500 (Thu, 13 Nov 2025) EllapsedTime: 2.5 seconds RetCode: 0 Status: OK