Package: nullrangesData Version: 1.17.0 Command: /home/biocbuild/bbs-3.23-bioc/R/bin/R CMD INSTALL nullrangesData StartedAt: 2025-10-30 10:58:20 -0400 (Thu, 30 Oct 2025) EndedAt: 2025-10-30 10:58:50 -0400 (Thu, 30 Oct 2025) EllapsedTime: 29.3 seconds RetCode: 0 Status: OK