Package: muleaData Version: 1.7.0 Command: /home/biocbuild/bbs-3.23-bioc/R/bin/R CMD INSTALL muleaData StartedAt: 2025-11-20 10:55:28 -0500 (Thu, 20 Nov 2025) EndedAt: 2025-11-20 10:55:30 -0500 (Thu, 20 Nov 2025) EllapsedTime: 2.5 seconds RetCode: 0 Status: OK