Package: muSpaData Version: 1.1.0 Command: /home/biocbuild/bbs-3.22-bioc/R/bin/R CMD INSTALL muSpaData StartedAt: 2025-10-16 10:56:45 -0400 (Thu, 16 Oct 2025) EndedAt: 2025-10-16 10:56:58 -0400 (Thu, 16 Oct 2025) EllapsedTime: 12.7 seconds RetCode: 0 Status: OK