Package: mtbls2 Version: 1.39.1 Command: /home/biocbuild/bbs-3.22-bioc/R/bin/R CMD INSTALL mtbls2 StartedAt: 2025-10-09 10:55:35 -0400 (Thu, 09 Oct 2025) EndedAt: 2025-10-09 10:56:12 -0400 (Thu, 09 Oct 2025) EllapsedTime: 37.0 seconds RetCode: 0 Status: OK